BEGIN:VCALENDAR
VERSION:2.0
PRODID:-//hacksw/handcal//NONSGML v1.0//EN
CALSCALE:GREGORIAN
BEGIN:VEVENT
UID:69e64e4e44941
DTSTART:20181024T203000Z
DTSTAMP:20260420T160326Z
DTEND:20181025T203000Z
LOCATION:Budapest
DESCRIPTION:Nano Tenchnology Event
URL;VALUE=URI:https://nanotechnology-materialscience.materialsconfere
 ences.com/
SUMMARY:31st European Congress on  Nanotechnology and Materials Engin
 neering
END:VEVENT
END:VCALENDAR
