BEGIN:VCALENDAR
VERSION:2.0
PRODID:-//hacksw/handcal//NONSGML v1.0//EN
CALSCALE:GREGORIAN
BEGIN:VEVENT
UID:69e68fe6829e1
DTSTART:20190324T193000Z
DTSTAMP:20260420T204318Z
DTEND:20190325T193000Z
LOCATION:Yokohama
DESCRIPTION:Nano Tenchnology Event
URL;VALUE=URI:https://nanomaterials.materialsconferences.com/
SUMMARY:25th World Congress on  Nanomaterials and Nanotechnology
END:VEVENT
END:VCALENDAR
