BEGIN:VCALENDAR
VERSION:2.0
PRODID:-//hacksw/handcal//NONSGML v1.0//EN
CALSCALE:GREGORIAN
BEGIN:VEVENT
UID:69e674d015094
DTSTART:20190124T203000Z
DTSTAMP:20260420T184744Z
DTEND:20190125T203000Z
LOCATION:Dubai
DESCRIPTION:Nano Tenchnology Event
URL;VALUE=URI:https://nanomaterials.nanotechconferences.org/
SUMMARY:27th International Conference on Nanomedicine and Nanomateria
 als
END:VEVENT
END:VCALENDAR
