BEGIN:VCALENDAR
VERSION:2.0
PRODID:-//hacksw/handcal//NONSGML v1.0//EN
CALSCALE:GREGORIAN
BEGIN:VEVENT
UID:69e64fb4ed7b1
DTSTART:20190828T193000Z
DTSTAMP:20260420T160924Z
DTEND:20190830T193000Z
LOCATION:London
DESCRIPTION:Nano Tenchnology Event
URL;VALUE=URI:https://nanocongress.nanotechconferences.org/
SUMMARY:31st Nano Congress for Future Advancements
END:VEVENT
END:VCALENDAR
