BEGIN:VCALENDAR
VERSION:2.0
PRODID:-//hacksw/handcal//NONSGML v1.0//EN
CALSCALE:GREGORIAN
BEGIN:VEVENT
UID:69e68fe6bd294
DTSTART:20190324T193000Z
DTSTAMP:20260420T204318Z
DTEND:20190325T193000Z
LOCATION:Yokohama
DESCRIPTION:Nano Tenchnology Event
URL;VALUE=URI:https://nanotek.conferenceseries.com/
SUMMARY:21st Asia Pacific Nanotechnology Congress
END:VEVENT
END:VCALENDAR
