BEGIN:VCALENDAR
VERSION:2.0
PRODID:-//hacksw/handcal//NONSGML v1.0//EN
CALSCALE:GREGORIAN
BEGIN:VEVENT
UID:69e64fb4e1fa5
DTSTART:20190919T193000Z
DTSTAMP:20260420T160924Z
DTEND:20190920T193000Z
LOCATION:San Francisco
DESCRIPTION:Nano Tenchnology Event
URL;VALUE=URI:https://nanotech.conferenceseries.com/
SUMMARY:24th Annual Meeting on  Nanomaterials Science
END:VEVENT
END:VCALENDAR
