BEGIN:VCALENDAR
VERSION:2.0
PRODID:-//hacksw/handcal//NONSGML v1.0//EN
CALSCALE:GREGORIAN
BEGIN:VEVENT
UID:69e64fb55d82b
DTSTART:20190908T193000Z
DTSTAMP:20260420T160925Z
DTEND:20190909T193000Z
LOCATION:Bangkok
DESCRIPTION:Nano Tenchnology Event
URL;VALUE=URI:https://nanoscience.conferenceseries.com/
SUMMARY:3rd World Congress on  Nano Science and NanoTechnology
END:VEVENT
END:VCALENDAR
