BEGIN:VCALENDAR
VERSION:2.0
PRODID:-//hacksw/handcal//NONSGML v1.0//EN
CALSCALE:GREGORIAN
BEGIN:VEVENT
UID:69e6650f15fea
DTSTART:20190526T193000Z
DTSTAMP:20260420T174031Z
DTEND:20190527T193000Z
LOCATION:Istanbul
DESCRIPTION:Nano Tenchnology Event
URL;VALUE=URI:https://nanomedicine.nanotechconferences.org/
SUMMARY:International Conference on  Nanomedicine and Nanotechnology 
  in Health Care
END:VEVENT
END:VCALENDAR
