BEGIN:VCALENDAR
VERSION:2.0
PRODID:-//hacksw/handcal//NONSGML v1.0//EN
CALSCALE:GREGORIAN
BEGIN:VEVENT
UID:69e791b02dc77
DTSTART:20190701T193000Z
DTSTAMP:20260421T150312Z
DTEND:20190704T193000Z
LOCATION:Thessaloniki
DESCRIPTION:Nano Tenchnology Event
URL;VALUE=URI:http://www.nanotexnology.com/index.php/nn
SUMMARY:International Conference on Nanosciences &amp\; Nanotechnolog
 gies (NN19)
END:VEVENT
END:VCALENDAR
