BEGIN:VCALENDAR
VERSION:2.0
PRODID:-//hacksw/handcal//NONSGML v1.0//EN
CALSCALE:GREGORIAN
BEGIN:VEVENT
UID:69e7a7c04a6e5
DTSTART:20190630T193000Z
DTSTAMP:20260421T163720Z
DTEND:20190703T193000Z
LOCATION:Thessaloniki
DESCRIPTION:Nano Tenchnology Event
URL;VALUE=URI:http://www.nanotexnology.com/index.php/isfoe
SUMMARY:International Symposium on Flexible Organic Electronics (ISFO
 OE19)
END:VEVENT
END:VCALENDAR
