BEGIN:VCALENDAR
VERSION:2.0
PRODID:-//hacksw/handcal//NONSGML v1.0//EN
CALSCALE:GREGORIAN
BEGIN:VEVENT
UID:69e7be6738b0d
DTSTART:20190630T193000Z
DTSTAMP:20260421T181359Z
DTEND:20190704T193000Z
LOCATION:Thessaloniki
DESCRIPTION:Nano Tenchnology Event
URL;VALUE=URI:http://www.nanotexnology.com/index.php/i3d
SUMMARY:International Conference on 3D Printing\, 3D Bioprinting\, Di
 igital &amp\; Additive Manufacturing (I3D19)
END:VEVENT
END:VCALENDAR
