BEGIN:VCALENDAR
VERSION:2.0
PRODID:-//hacksw/handcal//NONSGML v1.0//EN
CALSCALE:GREGORIAN
BEGIN:VEVENT
UID:69e7be6709c7f
DTSTART:20190628T193000Z
DTSTAMP:20260421T181359Z
DTEND:20190705T193000Z
LOCATION:Thessaloniki
DESCRIPTION:Nano Tenchnology Event
URL;VALUE=URI:http://www.nanotexnology.com/index.php/isson
SUMMARY:International Summer Schools "N&amp\;N\, OE &amp\; Nanomedici
 ine" (ISSON19)
END:VEVENT
END:VCALENDAR
