BEGIN:VCALENDAR
VERSION:2.0
PRODID:-//hacksw/handcal//NONSGML v1.0//EN
CALSCALE:GREGORIAN
BEGIN:VEVENT
UID:69e7a78162960
DTSTART:20190630T193000Z
DTSTAMP:20260421T163617Z
DTEND:20190704T193000Z
LOCATION:Thessaloniki
DESCRIPTION:Nano Tenchnology Event
URL;VALUE=URI:http://www.nanotexnology.com/index.php/expo
SUMMARY:NANOTEXNOLOGY EXPO 2019
END:VEVENT
END:VCALENDAR
