BEGIN:VCALENDAR
VERSION:2.0
PRODID:-//hacksw/handcal//NONSGML v1.0//EN
CALSCALE:GREGORIAN
BEGIN:VEVENT
UID:69e7a7bff0dd4
DTSTART:20190701T193000Z
DTSTAMP:20260421T163719Z
DTEND:20190703T193000Z
LOCATION:Thessaloniki
DESCRIPTION:Nano Tenchnology Event
URL;VALUE=URI:http://www.nanotexnology.com/index.php/about-business-f
 forum
SUMMARY:NANOTEXNOLOGY 2019 Business Forum
END:VEVENT
END:VCALENDAR
