BEGIN:VCALENDAR
VERSION:2.0
PRODID:-//hacksw/handcal//NONSGML v1.0//EN
CALSCALE:GREGORIAN
BEGIN:VEVENT
UID:69e7a7bfc3aec
DTSTART:20190702T193000Z
DTSTAMP:20260421T163719Z
DTEND:20190702T193000Z
LOCATION:Thessaloniki
DESCRIPTION:Nano Tenchnology Event
URL;VALUE=URI:http://www.nanotexnology.com/index.php/matchmaking-b2b-
 -event-forum
SUMMARY:NANOTEXNOLOGY Matchmaking (B2B) Event
END:VEVENT
END:VCALENDAR
