BEGIN:VCALENDAR
VERSION:2.0
PRODID:-//hacksw/handcal//NONSGML v1.0//EN
CALSCALE:GREGORIAN
BEGIN:VEVENT
UID:69e64aeec4076
DTSTART:20190602T193000Z
DTSTAMP:20260420T154902Z
DTEND:20190604T193000Z
LOCATION:Shanghai
DESCRIPTION:Nano Tenchnology Event
URL;VALUE=URI:http://www.chinananofair.com/
SUMMARY:China (Shanghai) International Nano Fair (Nano China 2019)
END:VEVENT
END:VCALENDAR
