BEGIN:VCALENDAR
VERSION:2.0
PRODID:-//hacksw/handcal//NONSGML v1.0//EN
CALSCALE:GREGORIAN
BEGIN:VEVENT
UID:69e64fb6a92a2
DTSTART:20191009T203000Z
DTSTAMP:20260420T160926Z
DTEND:20191010T203000Z
LOCATION:Dublin
DESCRIPTION:Nano Tenchnology Event
URL;VALUE=URI:https://advancednano.nanotechconferences.org/
SUMMARY:32nd International Conference on  Advanced Nanotechnology
END:VEVENT
END:VCALENDAR
