BEGIN:VCALENDAR
VERSION:2.0
PRODID:-//hacksw/handcal//NONSGML v1.0//EN
CALSCALE:GREGORIAN
BEGIN:VEVENT
UID:69e6650fa8d35
DTSTART:20190526T193000Z
DTSTAMP:20260420T174031Z
DTEND:20190527T193000Z
LOCATION:Taipei
DESCRIPTION:Nano Tenchnology Event
URL;VALUE=URI:https://medicalnanotechnology.conferenceseries.com/
SUMMARY:18th World Medical Nanotechnology Congress and Expo
END:VEVENT
END:VCALENDAR
