BEGIN:VCALENDAR
VERSION:2.0
PRODID:-//hacksw/handcal//NONSGML v1.0//EN
CALSCALE:GREGORIAN
BEGIN:VEVENT
UID:69e67bed9e870
DTSTART:20190516T193000Z
DTSTAMP:20260420T191805Z
DTEND:20190517T193000Z
LOCATION:Singapore city
DESCRIPTION:Nano Tenchnology Event
URL;VALUE=URI:https://biosensorscongress.conferenceseries.com/
SUMMARY:10th World Congress on  Biosensors and Bioelectronics
END:VEVENT
END:VCALENDAR
