BEGIN:VCALENDAR
VERSION:2.0
PRODID:-//hacksw/handcal//NONSGML v1.0//EN
CALSCALE:GREGORIAN
BEGIN:VEVENT
UID:69e9131695fc7
DTSTART:20190402T193000Z
DTSTAMP:20260422T182734Z
DTEND:20190403T193000Z
LOCATION:Philadelphia
DESCRIPTION:Nano Tenchnology Event
URL;VALUE=URI:https://nanotech.madridge.com/
SUMMARY:4th International Nanotechnology Conference & Expo
END:VEVENT
END:VCALENDAR
