BEGIN:VCALENDAR
VERSION:2.0
PRODID:-//hacksw/handcal//NONSGML v1.0//EN
CALSCALE:GREGORIAN
BEGIN:VEVENT
UID:69e913566c036
DTSTART:20181205T203000Z
DTSTAMP:20260422T182838Z
DTEND:20181206T203000Z
LOCATION:València
DESCRIPTION:Nano Tenchnology Event
URL;VALUE=URI:https://physics.madridge.com/
SUMMARY:European Physics Conference 2018
END:VEVENT
END:VCALENDAR
