BEGIN:VCALENDAR
VERSION:2.0
PRODID:-//hacksw/handcal//NONSGML v1.0//EN
CALSCALE:GREGORIAN
BEGIN:VEVENT
UID:69e913955c84d
DTSTART:20181205T203000Z
DTSTAMP:20260422T182941Z
DTEND:20181206T203000Z
LOCATION:Valencia
DESCRIPTION:Nano Tenchnology Event
URL;VALUE=URI:https://stem-cell.madridge.com/
SUMMARY:International Conference on Stem Cells and Cell Biology
END:VEVENT
END:VCALENDAR
