BEGIN:VCALENDAR
VERSION:2.0
PRODID:-//hacksw/handcal//NONSGML v1.0//EN
CALSCALE:GREGORIAN
BEGIN:VEVENT
UID:69e90ed163e49
DTSTART:20181202T203000Z
DTSTAMP:20260422T180921Z
DTEND:20181204T203000Z
LOCATION:Valencia
DESCRIPTION:Nano Tenchnology Event
URL;VALUE=URI:https://europeanmicrobiology.madridge.com/
SUMMARY:European Microbiology Research Conference
END:VEVENT
END:VCALENDAR
