BEGIN:VCALENDAR
VERSION:2.0
PRODID:-//hacksw/handcal//NONSGML v1.0//EN
CALSCALE:GREGORIAN
BEGIN:VEVENT
UID:69e913428452d
DTSTART:20190514T193000Z
DTSTAMP:20260422T182818Z
DTEND:20190516T193000Z
LOCATION:Amsterdam
DESCRIPTION:Nano Tenchnology Event
URL;VALUE=URI:https://europeanchemistry.madridge.com/
SUMMARY:2nd European Chemistry Conference
END:VEVENT
END:VCALENDAR
