BEGIN:VCALENDAR
VERSION:2.0
PRODID:-//hacksw/handcal//NONSGML v1.0//EN
CALSCALE:GREGORIAN
BEGIN:VEVENT
UID:69e913431ba97
DTSTART:20190514T193000Z
DTSTAMP:20260422T182819Z
DTEND:20190516T193000Z
LOCATION:Amsterdam
DESCRIPTION:Nano Tenchnology Event
URL;VALUE=URI:https://analyticalchemistry.madridge.com/index.php
SUMMARY:International Expo on  Analytic Sciences & Instrumentation
END:VEVENT
END:VCALENDAR
