BEGIN:VCALENDAR
VERSION:2.0
PRODID:-//hacksw/handcal//NONSGML v1.0//EN
CALSCALE:GREGORIAN
BEGIN:VEVENT
UID:69e91394b6027
DTSTART:20190414T193000Z
DTSTAMP:20260422T182940Z
DTEND:20190416T193000Z
LOCATION:Valencia
DESCRIPTION:Nano Tenchnology Event
URL;VALUE=URI:https://itmc.madridge.com/
SUMMARY:2nd International Translational and Regenerative Medicine Con
 nference
END:VEVENT
END:VCALENDAR
