BEGIN:VCALENDAR
VERSION:2.0
PRODID:-//hacksw/handcal//NONSGML v1.0//EN
CALSCALE:GREGORIAN
BEGIN:VEVENT
UID:69e9138ead8e3
DTSTART:20190319T203000Z
DTSTAMP:20260422T182934Z
DTEND:20190321T203000Z
LOCATION:Frankfurt
DESCRIPTION:Nano Tenchnology Event
URL;VALUE=URI:https://toxicology.madridge.com/index.php
SUMMARY:International Conference on  Toxicology and Risk Assessment
END:VEVENT
END:VCALENDAR
