BEGIN:VCALENDAR
VERSION:2.0
PRODID:-//hacksw/handcal//NONSGML v1.0//EN
CALSCALE:GREGORIAN
BEGIN:VEVENT
UID:69e913570c6fe
DTSTART:20190724T193000Z
DTSTAMP:20260422T182839Z
DTEND:20190725T193000Z
LOCATION:Rome
DESCRIPTION:Nano Tenchnology Event
URL;VALUE=URI:https://oncology.madridge.com/
SUMMARY:5th International Conference on Oncology and Research
END:VEVENT
END:VCALENDAR
