BEGIN:VCALENDAR
VERSION:2.0
PRODID:-//hacksw/handcal//NONSGML v1.0//EN
CALSCALE:GREGORIAN
BEGIN:VEVENT
UID:69e68fa75d574
DTSTART:20190403T193000Z
DTSTAMP:20260420T204215Z
DTEND:20190405T193000Z
LOCATION:Auckland
DESCRIPTION:Nano Tenchnology Event
URL;VALUE=URI:https://nanomedicine.annualcongress.com/
SUMMARY:4th Annual Congress on  Nanomedicine and Drug Delivery
END:VEVENT
END:VCALENDAR
