BEGIN:VCALENDAR
VERSION:2.0
PRODID:-//hacksw/handcal//NONSGML v1.0//EN
CALSCALE:GREGORIAN
BEGIN:VEVENT
UID:69e686866dc9f
DTSTART:20190221T203000Z
DTSTAMP:20260420T200318Z
DTEND:20190222T203000Z
LOCATION:San Francisco
DESCRIPTION:Nano Tenchnology Event
URL;VALUE=URI:https://drugdelivery.pharmaceuticalconferences.com/
SUMMARY:13th World Drug Delivery Summit
END:VEVENT
END:VCALENDAR
