BEGIN:VCALENDAR
VERSION:2.0
PRODID:-//hacksw/handcal//NONSGML v1.0//EN
CALSCALE:GREGORIAN
BEGIN:VEVENT
UID:69e68686ed0bb
DTSTART:20190219T203000Z
DTSTAMP:20260420T200318Z
DTEND:20190220T203000Z
LOCATION:Singapore city
DESCRIPTION:Nano Tenchnology Event
URL;VALUE=URI:https://drugdiscovery.insightconferences.com/
SUMMARY:World Congress on  Drug Discovery and Drug Design
END:VEVENT
END:VCALENDAR
