BEGIN:VCALENDAR
VERSION:2.0
PRODID:-//hacksw/handcal//NONSGML v1.0//EN
CALSCALE:GREGORIAN
BEGIN:VEVENT
UID:69e686c4b4ab8
DTSTART:20190129T203000Z
DTSTAMP:20260420T200420Z
DTEND:20190130T203000Z
LOCATION:Seoul
DESCRIPTION:Nano Tenchnology Event
URL;VALUE=URI:https://pharmacon.pharmaceuticalconferences.com/
SUMMARY:19th World Congress on  Advances in Pharmaceutical Sciences
END:VEVENT
END:VCALENDAR
