BEGIN:VCALENDAR
VERSION:2.0
PRODID:-//hacksw/handcal//NONSGML v1.0//EN
CALSCALE:GREGORIAN
BEGIN:VEVENT
UID:69e686c416732
DTSTART:20190227T203000Z
DTSTAMP:20260420T200420Z
DTEND:20190228T203000Z
LOCATION:Osaka
DESCRIPTION:Nano Tenchnology Event
URL;VALUE=URI:https://bioasia.pharmaceuticalconferences.com/
SUMMARY:International Conference on  Bio-Pharmaceuticals
END:VEVENT
END:VCALENDAR
