BEGIN:VCALENDAR
VERSION:2.0
PRODID:-//hacksw/handcal//NONSGML v1.0//EN
CALSCALE:GREGORIAN
BEGIN:VEVENT
UID:69e686883f512
DTSTART:20190224T203000Z
DTSTAMP:20260420T200320Z
DTEND:20190225T203000Z
LOCATION:Berlin
DESCRIPTION:Nano Tenchnology Event
URL;VALUE=URI:https://industry.pharmaceuticalconferences.com/
SUMMARY:19th World Congress on  Pharmaceutical Sciences and Innovatio
 ons in Pharma Industry
END:VEVENT
END:VCALENDAR
