BEGIN:VCALENDAR
VERSION:2.0
PRODID:-//hacksw/handcal//NONSGML v1.0//EN
CALSCALE:GREGORIAN
BEGIN:VEVENT
UID:69e68f87e68bf
DTSTART:20190326T193000Z
DTSTAMP:20260420T204143Z
DTEND:20190327T193000Z
LOCATION:Hong kong
DESCRIPTION:Nano Tenchnology Event
URL;VALUE=URI:https://advancedpharmacy.pharmaceuticalconferences.com/
SUMMARY:World Congress on  Advanced Pharmacy and Clinical Research
END:VEVENT
END:VCALENDAR
