BEGIN:VCALENDAR
VERSION:2.0
PRODID:-//hacksw/handcal//NONSGML v1.0//EN
CALSCALE:GREGORIAN
BEGIN:VEVENT
UID:69e68f8806805
DTSTART:20190328T193000Z
DTSTAMP:20260420T204144Z
DTEND:20190329T193000Z
LOCATION:Hong Kong
DESCRIPTION:Nano Tenchnology Event
URL;VALUE=URI:https://biomedicine.conferenceseries.com/
SUMMARY:2nd International Conference on  Biomedicine & Pharmacotherap
 py
END:VEVENT
END:VCALENDAR
