BEGIN:VCALENDAR
VERSION:2.0
PRODID:-//hacksw/handcal//NONSGML v1.0//EN
CALSCALE:GREGORIAN
BEGIN:VEVENT
UID:69e68f9df11ce
DTSTART:20190324T193000Z
DTSTAMP:20260420T204205Z
DTEND:20190325T193000Z
LOCATION:Hong Kong
DESCRIPTION:Nano Tenchnology Event
URL;VALUE=URI:https://medpharma.pharmaceuticalconferences.com/
SUMMARY:19th Annual Medicinal & Pharmaceutical Sciences Congress
END:VEVENT
END:VCALENDAR
