BEGIN:VCALENDAR
VERSION:2.0
PRODID:-//hacksw/handcal//NONSGML v1.0//EN
CALSCALE:GREGORIAN
BEGIN:VEVENT
UID:69e69d257c67d
DTSTART:20190317T203000Z
DTSTAMP:20260420T213949Z
DTEND:20190318T203000Z
LOCATION:Dubai
DESCRIPTION:Nano Tenchnology Event
URL;VALUE=URI:https://pharmacoepidemiology.pharmaceuticalconferences.
 .com/
SUMMARY:12th International Conference on  Pharmacoepidemiology and Cl
 linical Research
END:VEVENT
END:VCALENDAR
