BEGIN:VCALENDAR
VERSION:2.0
PRODID:-//hacksw/handcal//NONSGML v1.0//EN
CALSCALE:GREGORIAN
BEGIN:VEVENT
UID:69e67c591582b
DTSTART:20190515T193000Z
DTSTAMP:20260420T191953Z
DTEND:20190516T193000Z
LOCATION:Rome
DESCRIPTION:Nano Tenchnology Event
URL;VALUE=URI:https://appliedphysics.physicsmeeting.com/
SUMMARY:6th International Conference on  Theoretical and Applied Phys
 sics
END:VEVENT
END:VCALENDAR
