BEGIN:VCALENDAR
VERSION:2.0
PRODID:-//hacksw/handcal//NONSGML v1.0//EN
CALSCALE:GREGORIAN
BEGIN:VEVENT
UID:69e67c5a54cae
DTSTART:20190512T193000Z
DTSTAMP:20260420T191954Z
DTEND:20190513T193000Z
LOCATION:Paris
DESCRIPTION:Nano Tenchnology Event
URL;VALUE=URI:https://physics.physicsmeeting.com/
SUMMARY:6th World Congress on  Physics
END:VEVENT
END:VCALENDAR
