BEGIN:VCALENDAR
VERSION:2.0
PRODID:-//hacksw/handcal//NONSGML v1.0//EN
CALSCALE:GREGORIAN
BEGIN:VEVENT
UID:69e67c591db1b
DTSTART:20190521T193000Z
DTSTAMP:20260420T191953Z
DTEND:20190522T193000Z
LOCATION:Yokohama
DESCRIPTION:Nano Tenchnology Event
URL;VALUE=URI:https://opticalfibre.enggconferences.com/
SUMMARY:International Summit and Expo on  Optical Fibre Communication
 ns
END:VEVENT
END:VCALENDAR
