BEGIN:VCALENDAR
VERSION:2.0
PRODID:-//hacksw/handcal//NONSGML v1.0//EN
CALSCALE:GREGORIAN
BEGIN:VEVENT
UID:69e64fb4d09a1
DTSTART:20191016T203000Z
DTSTAMP:20260420T160924Z
DTEND:20191017T203000Z
LOCATION:Abu Dhabi
DESCRIPTION:Nano Tenchnology Event
URL;VALUE=URI:https://nanotechnologycongress.conferenceseries.com/
SUMMARY:22nd World Nanotechnology Congress
END:VEVENT
END:VCALENDAR
