BEGIN:VCALENDAR
VERSION:2.0
PRODID:-//hacksw/handcal//NONSGML v1.0//EN
CALSCALE:GREGORIAN
BEGIN:VEVENT
UID:69e6872ff10d7
DTSTART:20190219T203000Z
DTSTAMP:20260420T200607Z
DTEND:20190220T203000Z
LOCATION:Abu Dhabi
DESCRIPTION:Nano Tenchnology Event
URL;VALUE=URI:https://polymer-catalysis.conferenceseries.com/
SUMMARY:International Conference on  Polymerization Catalysis\, Flexi
 ible Polymer and Nanotechnology
END:VEVENT
END:VCALENDAR
