BEGIN:VCALENDAR
VERSION:2.0
PRODID:-//hacksw/handcal//NONSGML v1.0//EN
CALSCALE:GREGORIAN
BEGIN:VEVENT
UID:69e68730c487f
DTSTART:20190127T203000Z
DTSTAMP:20260420T200608Z
DTEND:20190128T203000Z
LOCATION:Singapore city
DESCRIPTION:Nano Tenchnology Event
URL;VALUE=URI:https://nanoscience.insightconferences.com/
SUMMARY:22nd World Congress on  Advances in Nanoscience and Nanotechn
 nology
END:VEVENT
END:VCALENDAR
