BEGIN:VCALENDAR
VERSION:2.0
PRODID:-//hacksw/handcal//NONSGML v1.0//EN
CALSCALE:GREGORIAN
BEGIN:VEVENT
UID:69e8b2bc829e6
DTSTART:20180921T203000Z
DTSTAMP:20260422T113628Z
DTEND:20180924T203000Z
LOCATION:Izmir
DESCRIPTION:Nano Tenchnology Event
URL;VALUE=URI:http://nanotr.org/en/
SUMMARY:14th Nanoscience and Nanotechnology Conference (NanoTR-14)
END:VEVENT
END:VCALENDAR
