BEGIN:VCALENDAR
VERSION:2.0
PRODID:-//hacksw/handcal//NONSGML v1.0//EN
CALSCALE:GREGORIAN
BEGIN:VEVENT
UID:69e664f7ba450
DTSTART:20190526T193000Z
DTSTAMP:20260420T174007Z
DTEND:20190527T193000Z
LOCATION:Istanbul
DESCRIPTION:Nano Tenchnology Event
URL;VALUE=URI:https://novel-drugdelivery-systems.pharmaceuticalconfer
 rences.com/middleeast/
SUMMARY:18th International Conference on Pharmaceutics and Novel drug
 g delivery systems (Pharmaceutica Meet 2019)
END:VEVENT
END:VCALENDAR
