BEGIN:VCALENDAR
VERSION:2.0
PRODID:-//hacksw/handcal//NONSGML v1.0//EN
CALSCALE:GREGORIAN
BEGIN:VEVENT
UID:69e68725627a1
DTSTART:20190317T203000Z
DTSTAMP:20260420T200557Z
DTEND:20190318T203000Z
LOCATION:Amsterdam
DESCRIPTION:Nano Tenchnology Event
URL;VALUE=URI:https://polymerchemistry.chemistryconferences.org/
SUMMARY:5th International Conference on Polymer Chemistry
END:VEVENT
END:VCALENDAR
