BEGIN:VCALENDAR
VERSION:2.0
PRODID:-//hacksw/handcal//NONSGML v1.0//EN
CALSCALE:GREGORIAN
BEGIN:VEVENT
UID:69eb8bf2df69b
DTSTART:20190718T193000Z
DTSTAMP:20260424T152746Z
DTEND:20190720T193000Z
LOCATION:Guilin
DESCRIPTION:Nano Tenchnology Event
URL;VALUE=URI:http://www.confjuly.org/conference/ICN2019/
SUMMARY:International Conference on Nanochemistry (ICN 2019)
END:VEVENT
END:VCALENDAR
