BEGIN:VCALENDAR
VERSION:2.0
PRODID:-//hacksw/handcal//NONSGML v1.0//EN
CALSCALE:GREGORIAN
BEGIN:VEVENT
UID:69e664f9b7a86
DTSTART:20190602T193000Z
DTSTAMP:20260420T174009Z
DTEND:20190603T193000Z
LOCATION:London
DESCRIPTION:Nano Tenchnology Event
URL;VALUE=URI:https://ceramics.insightconferences.com/
SUMMARY:5th International Conference and Expo on  Ceramics and Compos
 site Materials
END:VEVENT
END:VCALENDAR
