BEGIN:VCALENDAR
VERSION:2.0
PRODID:-//hacksw/handcal//NONSGML v1.0//EN
CALSCALE:GREGORIAN
BEGIN:VEVENT
UID:69e6871ac043c
DTSTART:20190227T203000Z
DTSTAMP:20260420T200546Z
DTEND:20190301T203000Z
LOCATION:Berlin
DESCRIPTION:Nano Tenchnology Event
URL;VALUE=URI:https://biotechnology.insightconferences.com/?utm_sourc
 ce=researchbib
SUMMARY:22nd Global Congress on  Biotechnology
END:VEVENT
END:VCALENDAR
